BEGIN:VCALENDAR
VERSION:2.0
PRODID:-//KompleteCare - ECPv6.15.20//NONSGML v1.0//EN
CALSCALE:GREGORIAN
METHOD:PUBLISH
X-ORIGINAL-URL:https://kompletecare.com.au
X-WR-CALDESC:Events for KompleteCare
REFRESH-INTERVAL;VALUE=DURATION:PT1H
X-Robots-Tag:noindex
X-PUBLISHED-TTL:PT1H
BEGIN:VTIMEZONE
TZID:Australia/Adelaide
BEGIN:STANDARD
TZOFFSETFROM:+1030
TZOFFSETTO:+0930
TZNAME:ACST
DTSTART:20250405T163000
END:STANDARD
BEGIN:DAYLIGHT
TZOFFSETFROM:+0930
TZOFFSETTO:+1030
TZNAME:ACDT
DTSTART:20251004T163000
END:DAYLIGHT
BEGIN:STANDARD
TZOFFSETFROM:+1030
TZOFFSETTO:+0930
TZNAME:ACST
DTSTART:20260404T163000
END:STANDARD
BEGIN:DAYLIGHT
TZOFFSETFROM:+0930
TZOFFSETTO:+1030
TZNAME:ACDT
DTSTART:20261003T163000
END:DAYLIGHT
BEGIN:STANDARD
TZOFFSETFROM:+1030
TZOFFSETTO:+0930
TZNAME:ACST
DTSTART:20270403T163000
END:STANDARD
BEGIN:DAYLIGHT
TZOFFSETFROM:+0930
TZOFFSETTO:+1030
TZNAME:ACDT
DTSTART:20271002T163000
END:DAYLIGHT
END:VTIMEZONE
BEGIN:VEVENT
DTSTART;TZID=Australia/Adelaide:20260423T123000
DTEND;TZID=Australia/Adelaide:20260423T153000
DTSTAMP:20260423T050636
CREATED:20260330T022814Z
LAST-MODIFIED:20260330T022814Z
UID:41803-1776947400-1776958200@kompletecare.com.au
SUMMARY:Lunch: The Midway Hotel
DESCRIPTION:
URL:https://kompletecare.com.au/event/lunch-the-midway-hotel/
END:VEVENT
BEGIN:VEVENT
DTSTART;TZID=Australia/Adelaide:20260424T123000
DTEND;TZID=Australia/Adelaide:20260424T153000
DTSTAMP:20260423T050636
CREATED:20260330T022939Z
LAST-MODIFIED:20260330T022939Z
UID:41805-1777033800-1777044600@kompletecare.com.au
SUMMARY:Excursion: Helen’s Mini Worlds: Terrarium Making
DESCRIPTION:
URL:https://kompletecare.com.au/event/excursion-helens-mini-worlds-terrarium-making/
END:VEVENT
BEGIN:VEVENT
DTSTART;TZID=Australia/Adelaide:20260428T123000
DTEND;TZID=Australia/Adelaide:20260428T153000
DTSTAMP:20260423T050636
CREATED:20260330T023025Z
LAST-MODIFIED:20260330T023025Z
UID:41807-1777379400-1777390200@kompletecare.com.au
SUMMARY:Cooking: Beef Burgers
DESCRIPTION:
URL:https://kompletecare.com.au/event/cooking-beef-burgers/
END:VEVENT
BEGIN:VEVENT
DTSTART;TZID=Australia/Adelaide:20260429T123000
DTEND;TZID=Australia/Adelaide:20260429T153000
DTSTAMP:20260423T050636
CREATED:20260330T023104Z
LAST-MODIFIED:20260330T023105Z
UID:41809-1777465800-1777476600@kompletecare.com.au
SUMMARY:Craft: Citronella Terracotta Candles
DESCRIPTION:
URL:https://kompletecare.com.au/event/craft-citronella-terracotta-candles/
END:VEVENT
BEGIN:VEVENT
DTSTART;TZID=Australia/Adelaide:20260430T123000
DTEND;TZID=Australia/Adelaide:20260430T153000
DTSTAMP:20260423T050636
CREATED:20260330T023226Z
LAST-MODIFIED:20260330T023226Z
UID:41811-1777552200-1777563000@kompletecare.com.au
SUMMARY:Excursion: Adelaide Gaol
DESCRIPTION:
URL:https://kompletecare.com.au/event/excursion-adelaide-gaol/
END:VEVENT
END:VCALENDAR